BEGIN:VCALENDAR
VERSION:2.0
PRODID:-//L&#039;Établi de l&#039;Éducation Artistique et Culturelle - ECPv6.3.5//NONSGML v1.0//EN
CALSCALE:GREGORIAN
METHOD:PUBLISH
X-ORIGINAL-URL:https://etabli-eac.cnam-inseac.fr
X-WR-CALDESC:évènements pour L&#039;Établi de l&#039;Éducation Artistique et Culturelle
REFRESH-INTERVAL;VALUE=DURATION:PT1H
X-Robots-Tag:noindex
X-PUBLISHED-TTL:PT1H
BEGIN:VTIMEZONE
TZID:Europe/Paris
BEGIN:DAYLIGHT
TZOFFSETFROM:+0100
TZOFFSETTO:+0200
TZNAME:CEST
DTSTART:20250330T010000
END:DAYLIGHT
BEGIN:STANDARD
TZOFFSETFROM:+0200
TZOFFSETTO:+0100
TZNAME:CET
DTSTART:20251026T010000
END:STANDARD
END:VTIMEZONE
BEGIN:VEVENT
DTSTART;VALUE=DATE:20251202
DTEND;VALUE=DATE:20251204
DTSTAMP:20260422T033452
CREATED:20250829T080825Z
LAST-MODIFIED:20251003T094523Z
UID:10000079-1764633600-1764806399@etabli-eac.cnam-inseac.fr
SUMMARY:Scènes et sciences : créer\, transmettre\, coopérer
DESCRIPTION:Formation hybride\n-> Webinaire(s) le(s) : 24/11/2025 \n  \n\n« L’éducation artistique et culturelle permet aux jeunes de donner du sens à leurs expériences et de mieux appréhender le monde contemporain. » Article 6 de la charte pour l’éducation artistique et culturelle. \n  \nDans un monde en mutation rapide\, nos représentations\, nos pratiques culturelles et notre rapport au réel sont profondément influencés par l’évolution des savoirs scientifiques et des technologies. Accompagner les jeunes dans la découverte de projets croisant arts et sciences constitue un levier essentiel pour développer leur sens critique\, leur curiosité et leur citoyenneté. \nCette formation nationale vise à valoriser la richesse des formes hybrides mêlant spectacle vivant et sciences. Elle invite à explorer les résonances esthétiques et sociétales que suscitent ces croisements\, ainsi que les formes sensibles et intellectuelles qu’ils peuvent prendre aujourd’hui. \nA partir du spectacle À la recherche des canards perdus\, cartographie 1 : Conférence sur une expérience scientifique pour mesurer la vitesse du réchauffement climatique dans l’Arctique de Frédéric Ferrer – compagnie Vertical Détour\, nous proposerons de : \n\nExplorer les enjeux esthétiques et dramaturgiques de la rencontre entre spectacle vivant et savoirs scientifiques\nApprofondir les connaissances scientifiques liées à la thématique abordée ;\nExpérimenter et concevoir des formes innovantes de médiation artistique et scientifique ;\nIdentifier des ressources et partenaires potentiels pour co-construire des projets croisant spectacle vivant et sciences.\n\nObjectifs de la formation :\n\nConstruire un projet d’EAC qui croise les domaines du spectacle vivant et de la culture scientifique\, technique et industrielle.\nConcevoir une médiation ou un outil pédagogique qui croise les domaines du spectacle vivant et de la CSTI en s’assurant d’un équilibre nécessaire entre les domaines.\nAnalyser les processus de création à l’œuvre dans des projets croisant spectacle vivant et sciences\, en interrogeant les enjeux de langage\, de temporalité\, de recherche et d’écriture partagés entre artistes et scientifiques.\nComprendre comment le croisement entre spectacle vivant et sciences renouvelle les récits\, les dispositifs scéniques et les modalités de réception\, en identifiant les apports réciproques de ces deux champs.\n\nTélécharger le programme : ici\nCandidater : ici\nCandidatures ouvertes jusqu’au : 19/10/2025
URL:https://etabli-eac.cnam-inseac.fr/formation/scenes-et-sciences/
LOCATION:le Théâtre\, 34 rue de la Paix\, Laval\, 53000
CATEGORIES:Culture scientifique, technique, industrielle,Théâtre, Arts du mime et du geste
ATTACH;FMTTYPE=image/jpeg:https://etabli-eac.cnam-inseac.fr/wp-content/uploads/2025/06/Visuel_Formation_PREAC-Spectacle-vivant_.jpg
ORGANIZER;CN="PREAC Spectacle vivant":MAILTO:preac@legrandr.com
END:VEVENT
END:VCALENDAR