BEGIN:VCALENDAR
VERSION:2.0
PRODID:-//L&#039;Établi de l&#039;Éducation Artistique et Culturelle - ECPv6.3.5//NONSGML v1.0//EN
CALSCALE:GREGORIAN
METHOD:PUBLISH
X-ORIGINAL-URL:https://etabli-eac.cnam-inseac.fr
X-WR-CALDESC:évènements pour L&#039;Établi de l&#039;Éducation Artistique et Culturelle
REFRESH-INTERVAL;VALUE=DURATION:PT1H
X-Robots-Tag:noindex
X-PUBLISHED-TTL:PT1H
BEGIN:VTIMEZONE
TZID:Europe/Paris
BEGIN:DAYLIGHT
TZOFFSETFROM:+0100
TZOFFSETTO:+0200
TZNAME:CEST
DTSTART:20240331T010000
END:DAYLIGHT
BEGIN:STANDARD
TZOFFSETFROM:+0200
TZOFFSETTO:+0100
TZNAME:CET
DTSTART:20241027T010000
END:STANDARD
END:VTIMEZONE
BEGIN:VEVENT
DTSTART;VALUE=DATE:20240513
DTEND;VALUE=DATE:20240516
DTSTAMP:20260420T015350
CREATED:20230918T100919Z
LAST-MODIFIED:20240201T150833Z
UID:10000033-1715558400-1715817599@etabli-eac.cnam-inseac.fr
SUMMARY:Comment le chant porte-t-il l'identité d'un territoire et d'une culture ?
DESCRIPTION:La thématique portée par cette formation 2024 permet de questionner la place du chant au sein d’un territoire et de s’approprier un répertoire à la fois dans sa dimension traditionnelle\, mais également en tant que matière propice à la création\, à l’inspiration\, à la mutation.\nIl s’agit de considérer un patrimoine immatériel – porté par la voix- comme un ancrage territorial mais aussi comme une ouverture perpétuelle aux différentes cultures.\n\nLe PREAC propose de s’approprier des chants traditionnels d’origines diverses\, de travailler sur l’émission vocale propre à ce répertoire\, d’appréhender les modes de jeux et pratiques vocales spécifiques à un territoire\, et de s’approprier les techniques de transmission\, de collectage\, et de préservation du patrimoine immatériel.\n\nProgramme complet : télécharger\nCandidatures : en ligne\nInscriptions jusqu’au 28 février !
URL:https://etabli-eac.cnam-inseac.fr/formation/comment-le-chant-porte-t-il-lidentite-dun-territoire-et-dune-culture/
LOCATION:Abbaye de Sylvanes centre Culturel de rencontre\, Mairie\, Sylvanès\, 12360\, France
CATEGORIES:Musique,Patrimoine
ATTACH;FMTTYPE=image/jpeg:https://etabli-eac.cnam-inseac.fr/wp-content/uploads/2024/02/image-pour-etabli.jpg
ORGANIZER;CN="PREAC Chants et dialogues des cultures":MAILTO:preacvoix@ac-toulouse.fr
END:VEVENT
BEGIN:VEVENT
DTSTART;VALUE=DATE:20240515
DTEND;VALUE=DATE:20240518
DTSTAMP:20260420T015350
CREATED:20230918T102611Z
LAST-MODIFIED:20240409T082955Z
UID:10000035-1715731200-1715990399@etabli-eac.cnam-inseac.fr
SUMMARY:Création artistique et totalitarisme : créer dans un contexte d’oppression
DESCRIPTION:En mai 2024\, la Maîtrise de l’Opéra de Lyon reprendra Brundibár\, de Hans Krása\, dans la mise en scène de Jeanne Candel. L’histoire de cet opéra pour enfants est singulière : écrit en 1938 à Prague\, il fut représenté à Theresienstadt et interprété par les enfants internés une cinquantaine de fois entre 1943 et 1944.\n\nÀ partir de cet opéra et sans négliger une ouverture vers d’autres formes d’expression artistique\, le séminaire du PRÉAC s’interrogera sur la création musicale comme forme de résistance au totalitarisme dans le système concentrationnaire nazi\, plus spécifiquement dans le camp de Terezín. Si Brundibár permet d’aborder également l’instrumentalisation de la musique par les nazis dans les camps\, le propos du séminaire restera centré sur la création elle-même\, comme forme de combat et de résistance individuelle ou collective dans ces conditions d’oppression extrêmes.\n\nComment\, dans ce processus de déshumanisation et de destruction\, des formes de création artistique ont-elles perduré\, voire se sont développées ? Dans quelles conditions et avec quels enjeux ? Comment ont-elles été la manifestation d’une résistance à l’oppression ? Quel a été le devenir de ces œuvres et quels sens prennent-elles aujourd’hui ? Comment les aborder en tant qu’œuvres d’art et en tant que témoignages de leur contexte de création ? Comment les faire découvrir à un public jeune notamment dans le cadre d’un projet d’éducation artistique et culturelle ?\nLe séminaire du PRÉAC abordera ces questions du 15 au 17 mai 2024.\nObjectifs :\n• Comprendre les enjeux de la création artistique\, notamment musicale\, dans le système concentrationnaire nazi\n• S’interroger sur la manière dont peuvent être jouées aujourd’hui les œuvres créées dans ce contexte\, en tenant compte de leurs spécificités\n• Aborder ces œuvres aujourd’hui avec un public jeune et envisager des projets en EAC autour d’elles\nAu programme :\nAteliers de pratique artistique\, conférences\, rencontres artistiques\, temps réflexifs et échanges…\nProgramme complet : en ligne\nS’inscrire : en ligne\nInscriptions jusqu’au 16 Février !
URL:https://etabli-eac.cnam-inseac.fr/formation/creation-artistique-et-totalitarisme-creer-dans-un-contexte-doppression/
LOCATION:Opéra de Lyon\, Place de la Comédie\, Lyon\, 69001\, France
CATEGORIES:Musique,Mémoire
ATTACH;FMTTYPE=image/jpeg:https://etabli-eac.cnam-inseac.fr/wp-content/uploads/2023/09/PREAC-opera-et-expression-vocalecjean-louis-Fernandez.jpg
ORGANIZER;CN="PREAC Op%C3%A9ra et Expressions vocales":MAILTO:cdebuttet@opera-lyon.com
END:VEVENT
BEGIN:VEVENT
DTSTART;VALUE=DATE:20240529
DTEND;VALUE=DATE:20240601
DTSTAMP:20260420T015350
CREATED:20230918T092557Z
LAST-MODIFIED:20240408T145241Z
UID:10000022-1716940800-1717199999@etabli-eac.cnam-inseac.fr
SUMMARY:La place du récit dans le champ chorégraphique
DESCRIPTION:Cycle « Récits : peut-on faire fiction sans faire d’histoires ? »  \nCe cycle pluriannuel du PREAC Chorégraphie et création contemporaine explore les questions liées à la place du récit dans le champ chorégraphique. Pour un abord en arborescence de ces questions\, le choix a été fait de s’appuyer sur une ou plusieurs autre(s) pratique(s) pour rendre possible une mise en jeu des questions liées à la narration et à la fiction avec celles liées à l’abstraction en chorégraphie. La musique\, l’audiovisuel\, la littérature sont aussi des champs traversés par ces problématiques compositionnelles. Les faire résonner renseigne cette approche dialogique.\n\nPour cette formation 2024 du PRÉAC Chorégraphie et Création contemporaine\, Sylvain Prunenec – danseur et chorégraphe – et Ryan Kernoa – musicien et compositeur – proposent de partager avec les participant·es certaines des pistes qui fondent aujourd’hui leur travail de création. Celui-ci articule la présence du récit (textuel ou musical) à une pratique de corps dans des lieux de nature.\n\nEn articulant la rencontre et l’expérience esthétique avec la dimension pédagogique\, en entremêlant la pratique et la théorie\, les artistes partageront les pistes qui fondent leur travail.\n\nProgramme complet : en ligne\nInscriptions : en ligne\nInscriptions ouvertes jusqu’au 4 mars 2024
URL:https://etabli-eac.cnam-inseac.fr/formation/comment-faire-recit-sans-faire-dhistoire/
LOCATION:La Genette Verte\, 33 Av. Jean Monestier\, Florac-Trois-Rivières\, 48400\, France
CATEGORIES:Danse,Musique,Livre, lecture, écritures et oralité,Cinéma et audiovisuel
ATTACH;FMTTYPE=image/jpeg:https://etabli-eac.cnam-inseac.fr/wp-content/uploads/2023/09/PREAC-Choregraphie-et-creation-contemporaine©ICI-CCN-deniseoliverfierro.jpg
ORGANIZER;CN="PREAC Chor%C3%A9graphie et cr%C3%A9ation contemporaine":MAILTO:a.neussaint@ici-ccn.com
END:VEVENT
END:VCALENDAR