BEGIN:VCALENDAR
VERSION:2.0
PRODID:-//L&#039;Établi de l&#039;Éducation Artistique et Culturelle - ECPv6.3.5//NONSGML v1.0//EN
CALSCALE:GREGORIAN
METHOD:PUBLISH
X-WR-CALNAME:L&#039;Établi de l&#039;Éducation Artistique et Culturelle
X-ORIGINAL-URL:https://etabli-eac.cnam-inseac.fr
X-WR-CALDESC:évènements pour L&#039;Établi de l&#039;Éducation Artistique et Culturelle
REFRESH-INTERVAL;VALUE=DURATION:PT1H
X-Robots-Tag:noindex
X-PUBLISHED-TTL:PT1H
BEGIN:VTIMEZONE
TZID:Europe/Paris
BEGIN:DAYLIGHT
TZOFFSETFROM:+0100
TZOFFSETTO:+0200
TZNAME:CEST
DTSTART:20260329T010000
END:DAYLIGHT
BEGIN:STANDARD
TZOFFSETFROM:+0200
TZOFFSETTO:+0100
TZNAME:CET
DTSTART:20261025T010000
END:STANDARD
END:VTIMEZONE
BEGIN:VEVENT
DTSTART;VALUE=DATE:20260318
DTEND;VALUE=DATE:20260321
DTSTAMP:20260421T221815
CREATED:20250829T075434Z
LAST-MODIFIED:20251118T220109Z
UID:10000087-1773792000-1774051199@etabli-eac.cnam-inseac.fr
SUMMARY:Voix comme on danse : corps chantant\, corps dansant
DESCRIPTION:Portée par le PREAC Danse Nomade\, cette formation nationale propose une immersion collective dans l’exploration sensible des liens entre voix\, corps et mouvement. Elle s’adresse à tous les professionnel·les de l’éducation\, de la culture\, de l’enfance et de la jeunesse\, désireux d’élargir leurs pratiques éducatives ou artistiques\, et de découvrir comment la rencontre entre voix et danse peut devenir un terrain fécond d’expression\, de transmission et de relation. \nÀ travers ateliers\, conférences\, temps réflexifs et expérimentations\, les stagiaires seront invités à explorer la voix et le corps comme outils de présence\, d’écoute\, de confiance et de créativité. Le travail croisé de pédagogues et d’artistes permettra d’interroger les manières d’entrer en relation autrement\, en mobilisant l’attention à soi et à l’autre dans une perspective inclusive\, transdisciplinaire et transposable. \nLa formation proposera également un éclairage sur l’histoire des liens entre voix et danse\, et s’adossera à des projets concrets développés à l’Opéra de Limoges\, pour nourrir la réflexion sur les modalités d’implication des publics dans des démarches participatives et artistiques. Chanter\, danser\, mais surtout apprendre à faire ensemble autrement. \nObjectifs de la formation :\n\nDécouvrir des artistes et œuvres de la scène chorégraphique contemporaine\, et comprendre leurs démarches de création mêlant voix et corps ;\nApprofondir des pratiques artistiques transversales permettant d’explorer la danse comme outil d’expression personnelle et collective ;\nExpérimenter des outils mobilisant la voix parlée et chantée dans la pratique corporelle\, pour accompagner la prise de parole et la présence en public ;\nRéfléchir collectivement à des modalités de transmission favorisant la confiance en soi\, le respect de l’autre et l’égalité des places dans l’espace éducatif ou artistique ;\nConstruire des pistes concrètes pour faire évoluer les approches de la danse avec des jeunes\, dans une logique d’inclusion\, de coopération et de sensibilité.\n\nTélécharger le programme : ici\nCandidater : ici\nCandidatures ouvertes jusqu’au : 14/12/2025
URL:https://etabli-eac.cnam-inseac.fr/formation/voix-comme-on-danse/
LOCATION:Opéra Grand Théâtre\, Place Stalingrad\, Limoges\, 87000\, France
CATEGORIES:Danse,Livre, lecture, écritures et oralité
ATTACH;FMTTYPE=image/jpeg:https://etabli-eac.cnam-inseac.fr/wp-content/uploads/2025/06/Visuel_Formation_PREAC-Danse-Nomade_.jpg
ORGANIZER;CN="PREAC Danse nomade":MAILTO:virginie.courreges.eac@ac-bordeaux.fr
END:VEVENT
END:VCALENDAR