BEGIN:VCALENDAR
VERSION:2.0
PRODID:-//L&#039;Établi de l&#039;Éducation Artistique et Culturelle - ECPv6.3.5//NONSGML v1.0//EN
CALSCALE:GREGORIAN
METHOD:PUBLISH
X-WR-CALNAME:L&#039;Établi de l&#039;Éducation Artistique et Culturelle
X-ORIGINAL-URL:https://etabli-eac.cnam-inseac.fr
X-WR-CALDESC:évènements pour L&#039;Établi de l&#039;Éducation Artistique et Culturelle
REFRESH-INTERVAL;VALUE=DURATION:PT1H
X-Robots-Tag:noindex
X-PUBLISHED-TTL:PT1H
BEGIN:VTIMEZONE
TZID:Europe/Paris
BEGIN:DAYLIGHT
TZOFFSETFROM:+0100
TZOFFSETTO:+0200
TZNAME:CEST
DTSTART:20240331T010000
END:DAYLIGHT
BEGIN:STANDARD
TZOFFSETFROM:+0200
TZOFFSETTO:+0100
TZNAME:CET
DTSTART:20241027T010000
END:STANDARD
END:VTIMEZONE
BEGIN:VEVENT
DTSTART;VALUE=DATE:20240205
DTEND;VALUE=DATE:20240208
DTSTAMP:20260423T205027
CREATED:20230918T102006Z
LAST-MODIFIED:20231212T145159Z
UID:10000034-1707091200-1707350399@etabli-eac.cnam-inseac.fr
SUMMARY:Les pratiques numériques dans les musiques actuelles
DESCRIPTION:Les pratiques numériques dans les musiques actuelles\, ou comment tout peut devenir son !\n\nLes outils numériques font partie de notre quotidien\, mais sont constamment améliorés ou réinventés par leurs créateurs. Les artistes s’emparent de ces outils et contribuent à leur évolution à travers la création de nouveaux projets\, et par des collaborations nombreuses entre le « monde artistique » et le « monde scientifique ». Généralement attractifs pour les jeunes\, ils ne savent pourtant pas toujours s’en servir ou les utilisent sans connaître toutes leurs possibilités. Quelle place et quelle forme occupe les pratiques numériques dans l’histoire de la musique ? Quelles nouvelles possibilités offrent ces outils dans l’espace scénique\, la transversalité\, l’identité musicale ? Quelles nouvelles modalités de transmission et modes de collaboration doivent et peuvent se mettre en place ?\n\nFaire chanter les étoiles ? Donner vie à des images d’archive selon le signal lumineux qu’elles envoient ?\nTel est le pari des deux compagnies qui animeront cette formation PREAC\, installé sur la Presqu’île créative de Caen\, qui regroupe entre autre une scène de musiques actuelles\, des ateliers d’artistes\, l’école des arts et média\, et un fablab.\nLes 3 jours de stage autour des projets EKLA! de Turnsteak\, et Résurgences Mnémosynes de Noélie Plé et Alexis Choplain\, permettront d’appréhender des univers artistiques originaux\, construits sur des réflexions artistiques et scientifiques\, donnant naissance à de nouveaux univers visuels et sonores. A travers des rencontres et des ateliers\, vous pourrez découvrir et tester quelques outils numériques\, utilisables avec un public jeune\, et réfléchir à leur plus-value pédagogique.\n\nTélécharger le programme : programme\nS’inscrire en ligne : lien\nInscriptions closes
URL:https://etabli-eac.cnam-inseac.fr/formation/les-pratiques-numeriques-dans-les-musiques-actuelles/
LOCATION:Le Cargö\, 9 Cours Caffarelli\, Caen\, 14000
CATEGORIES:Musique,Culture scientifique, technique, industrielle
ATTACH;FMTTYPE=image/png:https://etabli-eac.cnam-inseac.fr/wp-content/uploads/2023/09/Resurgences-1.png
ORGANIZER;CN="PREAC Musiques actuelles":MAILTO:celine.lecomte@ac-normandie.fr
END:VEVENT
BEGIN:VEVENT
DTSTART;VALUE=DATE:20240220
DTEND;VALUE=DATE:20240228
DTSTAMP:20260423T205027
CREATED:20230918T085007Z
LAST-MODIFIED:20240129T065803Z
UID:10000017-1708387200-1709078399@etabli-eac.cnam-inseac.fr
SUMMARY:Du battant de lames au sommet des montagnes : l’océan
DESCRIPTION:Le PREAC Arts\, Nature\, Culture (La Réunion) a pour objectif de faire prendre conscience de la richesse\, des menaces et des enjeux des océans en s’appuyant sur les spécificités de l’Océan Indien. Entre conférences\, ateliers et échanges\, il s’agit de comprendre l’océan dans ses spécificités physiques\, sa faune et sa flore\, ses espaces à valoriser et à protéger\, étudier son rapport avec l’activité humaine d’un point de vue historique\, social\, économique et politique et appréhender l’enjeu arts/sciences à travers son appropriation par les artistes\, que ce soit par les arts plastiques\, la danse\, la musique\, le théâtre… \nAprès une première année centrée sur les espèces migratoires en sciences\, sur une réflexion géopolitique et économique avec les TAAF et l’histoire portuaire de La Réunion\, et sur une approche littéraire et photographique (cyanotype) en art\, cette formation 2024 se concentrera plus particulièrement sur les relations de l’homme à l’océan : \n\nvoyager par la mer avant d’arriver sur l’île (voyage des engagés et lazaret; représentation picturales);\ndélimiter\, nommer les océans ;\nexploiter les ressources marines (sel\, coraux…).\n\nDans cette perspective\, l’approche scientifique se consacrera à l’impact de l’homme sur l’océan – pollution\, déchets plastiques\, four à chaux et destruction des coraux – jusqu’aux actions de préservation actuelles – protection des tortues marines\, réhabilitation des zones de ponte\, protection du corail. Ces mêmes enjeux environnementaux seront soulevés de manière artistique à travers le théâtre d’objets dans le spectacle “Récif” des Alberts. Dans ces liens entre arts\, sciences et patrimoine\, nous proposerons également des ateliers de pratique avec Simon Rouby (arts visuels) et David Gagneur (iconothèque) ou encore des partages d’expérience autour du projet “Devenir océan” et de l’approche singulière de la chorégraphe Marine Chesnais. \nDates : 20\, 21 et 27 février 2024 \n\nProgramme complet : télécharger\nInscriptions : mail motivé à daac.delegue@ac-reunion.fr\nInscriptions jusqu’au : 28 janvier !
URL:https://etabli-eac.cnam-inseac.fr/formation/du-battant-de-lames-au-sommet-des-montagnes-locean/
LOCATION:Kelonia\, 46 Rue du Général de Gaulle\, Saint-Leu\, 97436\, Réunion
CATEGORIES:Culture scientifique, technique, industrielle,Patrimoine,Arts visuels
ATTACH;FMTTYPE=image/jpeg:https://etabli-eac.cnam-inseac.fr/wp-content/uploads/2023/09/PREAC-Arts-Nature-Culture©Delphine-Colin.jpg
ORGANIZER;CN="PREAC Arts%2C Nature%2C Culture":MAILTO:delphine.colin@ac-reunion.fr
END:VEVENT
END:VCALENDAR